BEGIN:VCALENDAR
VERSION:2.0
PRODID:-//Qualimet - ECPv6.15.20//NONSGML v1.0//EN
CALSCALE:GREGORIAN
METHOD:PUBLISH
X-ORIGINAL-URL:https://qualimet.ca
X-WR-CALDESC:Events for Qualimet
REFRESH-INTERVAL;VALUE=DURATION:PT1H
X-Robots-Tag:noindex
X-PUBLISHED-TTL:PT1H
BEGIN:VTIMEZONE
TZID:America/Edmonton
BEGIN:DAYLIGHT
TZOFFSETFROM:-0700
TZOFFSETTO:-0600
TZNAME:MDT
DTSTART:20250309T090000
END:DAYLIGHT
BEGIN:STANDARD
TZOFFSETFROM:-0600
TZOFFSETTO:-0700
TZNAME:MST
DTSTART:20251102T080000
END:STANDARD
BEGIN:DAYLIGHT
TZOFFSETFROM:-0700
TZOFFSETTO:-0600
TZNAME:MDT
DTSTART:20260308T090000
END:DAYLIGHT
BEGIN:STANDARD
TZOFFSETFROM:-0600
TZOFFSETTO:-0700
TZNAME:MST
DTSTART:20261101T080000
END:STANDARD
BEGIN:DAYLIGHT
TZOFFSETFROM:-0700
TZOFFSETTO:-0600
TZNAME:MDT
DTSTART:20270314T090000
END:DAYLIGHT
BEGIN:STANDARD
TZOFFSETFROM:-0600
TZOFFSETTO:-0700
TZNAME:MST
DTSTART:20271107T080000
END:STANDARD
END:VTIMEZONE
BEGIN:VEVENT
DTSTART;VALUE=DATE:20260806
DTEND;VALUE=DATE:20260807
DTSTAMP:20260420T065952
CREATED:20260415T181827Z
LAST-MODIFIED:20260415T210823Z
UID:2144-1785974400-1786060799@qualimet.ca
SUMMARY:ABSA Welder Test
DESCRIPTION:Contact@qualimet.ca\n(780)469-9652
URL:https://qualimet.ca/hours-and-testing/absa-test-76/
CATEGORIES:ABSA Welder Testing
ORGANIZER;CN="Qualimet":MAILTO:contact@qualimet.ca
END:VEVENT
BEGIN:VEVENT
DTSTART;VALUE=DATE:20260807
DTEND;VALUE=DATE:20260808
DTSTAMP:20260420T065952
CREATED:20260415T181827Z
LAST-MODIFIED:20260415T211033Z
UID:2145-1786060800-1786147199@qualimet.ca
SUMMARY:ABSA Welder Test
DESCRIPTION:Contact@qualimet.ca\n(780)469-9652
URL:https://qualimet.ca/hours-and-testing/absa-test-77/
CATEGORIES:ABSA Welder Testing
ORGANIZER;CN="Qualimet":MAILTO:contact@qualimet.ca
END:VEVENT
BEGIN:VEVENT
DTSTART;VALUE=DATE:20260811
DTEND;VALUE=DATE:20260812
DTSTAMP:20260420T065952
CREATED:20260415T181837Z
LAST-MODIFIED:20260415T211046Z
UID:2146-1786406400-1786492799@qualimet.ca
SUMMARY:ABSA Welder Test
DESCRIPTION:Contact@qualimet.ca\n(780)469-9652
URL:https://qualimet.ca/hours-and-testing/absa-test-78/
CATEGORIES:ABSA Welder Testing
ORGANIZER;CN="Qualimet":MAILTO:contact@qualimet.ca
END:VEVENT
BEGIN:VEVENT
DTSTART;VALUE=DATE:20260813
DTEND;VALUE=DATE:20260814
DTSTAMP:20260420T065952
CREATED:20260415T181838Z
LAST-MODIFIED:20260415T211102Z
UID:2147-1786579200-1786665599@qualimet.ca
SUMMARY:ABSA Welder Test
DESCRIPTION:Contact@qualimet.ca\n(780)469-9652
URL:https://qualimet.ca/hours-and-testing/absa-test-79/
CATEGORIES:ABSA Welder Testing
ORGANIZER;CN="Qualimet":MAILTO:contact@qualimet.ca
END:VEVENT
BEGIN:VEVENT
DTSTART;VALUE=DATE:20260818
DTEND;VALUE=DATE:20260819
DTSTAMP:20260420T065952
CREATED:20260415T181838Z
LAST-MODIFIED:20260415T211127Z
UID:2149-1787011200-1787097599@qualimet.ca
SUMMARY:ABSA Welder Test
DESCRIPTION:Contact@qualimet.ca\n(780)469-9652
URL:https://qualimet.ca/hours-and-testing/absa-test-80/
CATEGORIES:ABSA Welder Testing
ORGANIZER;CN="Qualimet":MAILTO:contact@qualimet.ca
END:VEVENT
BEGIN:VEVENT
DTSTART;VALUE=DATE:20260820
DTEND;VALUE=DATE:20260821
DTSTAMP:20260420T065952
CREATED:20260415T181838Z
LAST-MODIFIED:20260415T211137Z
UID:2150-1787184000-1787270399@qualimet.ca
SUMMARY:ABSA Welder Test
DESCRIPTION:Contact@qualimet.ca\n(780)469-9652
URL:https://qualimet.ca/hours-and-testing/absa-test-81/
CATEGORIES:ABSA Welder Testing
ORGANIZER;CN="Qualimet":MAILTO:contact@qualimet.ca
END:VEVENT
BEGIN:VEVENT
DTSTART;VALUE=DATE:20260821
DTEND;VALUE=DATE:20260822
DTSTAMP:20260420T065952
CREATED:20260415T181847Z
LAST-MODIFIED:20260415T211150Z
UID:2151-1787270400-1787356799@qualimet.ca
SUMMARY:ABSA Welder Test
DESCRIPTION:Contact@qualimet.ca\n(780)469-9652
URL:https://qualimet.ca/hours-and-testing/absa-test-82/
CATEGORIES:ABSA Welder Testing
ORGANIZER;CN="Qualimet":MAILTO:contact@qualimet.ca
END:VEVENT
BEGIN:VEVENT
DTSTART;VALUE=DATE:20260825
DTEND;VALUE=DATE:20260826
DTSTAMP:20260420T065952
CREATED:20260415T181847Z
LAST-MODIFIED:20260415T211204Z
UID:2152-1787616000-1787702399@qualimet.ca
SUMMARY:ABSA Welder Test
DESCRIPTION:Contact@qualimet.ca\n(780)469-9652
URL:https://qualimet.ca/hours-and-testing/absa-test-83/
CATEGORIES:ABSA Welder Testing
ORGANIZER;CN="Qualimet":MAILTO:contact@qualimet.ca
END:VEVENT
BEGIN:VEVENT
DTSTART;VALUE=DATE:20260827
DTEND;VALUE=DATE:20260828
DTSTAMP:20260420T065952
CREATED:20260415T181848Z
LAST-MODIFIED:20260415T211219Z
UID:2153-1787788800-1787875199@qualimet.ca
SUMMARY:ABSA Welder Test
DESCRIPTION:Contact@qualimet.ca\n(780)469-9652
URL:https://qualimet.ca/hours-and-testing/absa-test-84/
CATEGORIES:ABSA Welder Testing
ORGANIZER;CN="Qualimet":MAILTO:contact@qualimet.ca
END:VEVENT
END:VCALENDAR