BEGIN:VCALENDAR
VERSION:2.0
PRODID:-//Qualimet - ECPv6.15.20//NONSGML v1.0//EN
CALSCALE:GREGORIAN
METHOD:PUBLISH
X-WR-CALNAME:Qualimet
X-ORIGINAL-URL:https://qualimet.ca
X-WR-CALDESC:Events for Qualimet
REFRESH-INTERVAL;VALUE=DURATION:PT1H
X-Robots-Tag:noindex
X-PUBLISHED-TTL:PT1H
BEGIN:VTIMEZONE
TZID:America/Edmonton
BEGIN:DAYLIGHT
TZOFFSETFROM:-0700
TZOFFSETTO:-0600
TZNAME:MDT
DTSTART:20250309T090000
END:DAYLIGHT
BEGIN:STANDARD
TZOFFSETFROM:-0600
TZOFFSETTO:-0700
TZNAME:MST
DTSTART:20251102T080000
END:STANDARD
BEGIN:DAYLIGHT
TZOFFSETFROM:-0700
TZOFFSETTO:-0600
TZNAME:MDT
DTSTART:20260308T090000
END:DAYLIGHT
BEGIN:STANDARD
TZOFFSETFROM:-0600
TZOFFSETTO:-0700
TZNAME:MST
DTSTART:20261101T080000
END:STANDARD
BEGIN:DAYLIGHT
TZOFFSETFROM:-0700
TZOFFSETTO:-0600
TZNAME:MDT
DTSTART:20270314T090000
END:DAYLIGHT
BEGIN:STANDARD
TZOFFSETFROM:-0600
TZOFFSETTO:-0700
TZNAME:MST
DTSTART:20271107T080000
END:STANDARD
END:VTIMEZONE
BEGIN:VEVENT
DTSTART;VALUE=DATE:20260901
DTEND;VALUE=DATE:20260902
DTSTAMP:20260420T083624
CREATED:20260415T181848Z
LAST-MODIFIED:20260415T211244Z
UID:2155-1788220800-1788307199@qualimet.ca
SUMMARY:ABSA Welder Test
DESCRIPTION:Contact@qualimet.ca\n(780)469-9652
URL:https://qualimet.ca/hours-and-testing/absa-test-85/
CATEGORIES:ABSA Welder Testing
ORGANIZER;CN="Qualimet":MAILTO:contact@qualimet.ca
END:VEVENT
BEGIN:VEVENT
DTSTART;VALUE=DATE:20260903
DTEND;VALUE=DATE:20260904
DTSTAMP:20260420T083624
CREATED:20260415T181856Z
LAST-MODIFIED:20260415T211257Z
UID:2156-1788393600-1788479999@qualimet.ca
SUMMARY:ABSA Welder Test
DESCRIPTION:Contact@qualimet.ca\n(780)469-9652
URL:https://qualimet.ca/hours-and-testing/absa-test-86/
CATEGORIES:ABSA Welder Testing
ORGANIZER;CN="Qualimet":MAILTO:contact@qualimet.ca
END:VEVENT
BEGIN:VEVENT
DTSTART;VALUE=DATE:20260904
DTEND;VALUE=DATE:20260905
DTSTAMP:20260420T083624
CREATED:20260415T181857Z
LAST-MODIFIED:20260415T211312Z
UID:2157-1788480000-1788566399@qualimet.ca
SUMMARY:ABSA Welder Test
DESCRIPTION:Contact@qualimet.ca\n(780)469-9652
URL:https://qualimet.ca/hours-and-testing/absa-test-87/
CATEGORIES:ABSA Welder Testing
ORGANIZER;CN="Qualimet":MAILTO:contact@qualimet.ca
END:VEVENT
BEGIN:VEVENT
DTSTART;VALUE=DATE:20260910
DTEND;VALUE=DATE:20260911
DTSTAMP:20260420T083624
CREATED:20260415T181857Z
LAST-MODIFIED:20260415T211325Z
UID:2158-1788998400-1789084799@qualimet.ca
SUMMARY:ABSA Welder Test
DESCRIPTION:Contact@qualimet.ca\n(780)469-9652
URL:https://qualimet.ca/hours-and-testing/absa-test-88/
CATEGORIES:ABSA Welder Testing
ORGANIZER;CN="Qualimet":MAILTO:contact@qualimet.ca
END:VEVENT
BEGIN:VEVENT
DTSTART;VALUE=DATE:20260915
DTEND;VALUE=DATE:20260916
DTSTAMP:20260420T083624
CREATED:20260415T181857Z
LAST-MODIFIED:20260415T211352Z
UID:2160-1789430400-1789516799@qualimet.ca
SUMMARY:ABSA Welder Test
DESCRIPTION:Contact@qualimet.ca\n(780)469-9652
URL:https://qualimet.ca/hours-and-testing/absa-test-89/
CATEGORIES:ABSA Welder Testing
ORGANIZER;CN="Qualimet":MAILTO:contact@qualimet.ca
END:VEVENT
BEGIN:VEVENT
DTSTART;VALUE=DATE:20260917
DTEND;VALUE=DATE:20260918
DTSTAMP:20260420T083624
CREATED:20260415T181908Z
LAST-MODIFIED:20260415T211406Z
UID:2161-1789603200-1789689599@qualimet.ca
SUMMARY:ABSA Welder Test
DESCRIPTION:Contact@qualimet.ca\n(780)469-9652
URL:https://qualimet.ca/hours-and-testing/absa-test-90/
CATEGORIES:ABSA Welder Testing
ORGANIZER;CN="Qualimet":MAILTO:contact@qualimet.ca
END:VEVENT
BEGIN:VEVENT
DTSTART;VALUE=DATE:20260918
DTEND;VALUE=DATE:20260919
DTSTAMP:20260420T083624
CREATED:20260415T181908Z
LAST-MODIFIED:20260415T211418Z
UID:2162-1789689600-1789775999@qualimet.ca
SUMMARY:ABSA Welder Test
DESCRIPTION:Contact@qualimet.ca\n(780)469-9652
URL:https://qualimet.ca/hours-and-testing/absa-test-91/
CATEGORIES:ABSA Welder Testing
ORGANIZER;CN="Qualimet":MAILTO:contact@qualimet.ca
END:VEVENT
BEGIN:VEVENT
DTSTART;VALUE=DATE:20260922
DTEND;VALUE=DATE:20260923
DTSTAMP:20260420T083624
CREATED:20260415T181909Z
LAST-MODIFIED:20260415T211433Z
UID:2163-1790035200-1790121599@qualimet.ca
SUMMARY:ABSA Welder Test
DESCRIPTION:Contact@qualimet.ca\n(780)469-9652
URL:https://qualimet.ca/hours-and-testing/absa-test-92/
CATEGORIES:ABSA Welder Testing
ORGANIZER;CN="Qualimet":MAILTO:contact@qualimet.ca
END:VEVENT
BEGIN:VEVENT
DTSTART;VALUE=DATE:20260924
DTEND;VALUE=DATE:20260925
DTSTAMP:20260420T083624
CREATED:20260415T181909Z
LAST-MODIFIED:20260415T210946Z
UID:2164-1790208000-1790294399@qualimet.ca
SUMMARY:ABSA Welder Test
DESCRIPTION:Contact@qualimet.ca\n(780)469-9652
URL:https://qualimet.ca/hours-and-testing/absa-test-93/
CATEGORIES:ABSA Welder Testing
ORGANIZER;CN="Qualimet":MAILTO:contact@qualimet.ca
END:VEVENT
BEGIN:VEVENT
DTSTART;VALUE=DATE:20260929
DTEND;VALUE=DATE:20260930
DTSTAMP:20260420T083624
CREATED:20260415T181917Z
LAST-MODIFIED:20260416T000909Z
UID:2166-1790640000-1790726399@qualimet.ca
SUMMARY:ABSA Welder Test
DESCRIPTION:Contact@qualimet.ca\n(780)469-9652
URL:https://qualimet.ca/hours-and-testing/absa-test-94/
CATEGORIES:ABSA Welder Testing
ORGANIZER;CN="Qualimet":MAILTO:contact@qualimet.ca
END:VEVENT
END:VCALENDAR