BEGIN:VCALENDAR
VERSION:2.0
PRODID:-//Qualimet - ECPv6.15.20//NONSGML v1.0//EN
CALSCALE:GREGORIAN
METHOD:PUBLISH
X-WR-CALNAME:Qualimet
X-ORIGINAL-URL:https://qualimet.ca
X-WR-CALDESC:Events for Qualimet
REFRESH-INTERVAL;VALUE=DURATION:PT1H
X-Robots-Tag:noindex
X-PUBLISHED-TTL:PT1H
BEGIN:VTIMEZONE
TZID:America/Edmonton
BEGIN:DAYLIGHT
TZOFFSETFROM:-0700
TZOFFSETTO:-0600
TZNAME:MDT
DTSTART:20250309T090000
END:DAYLIGHT
BEGIN:STANDARD
TZOFFSETFROM:-0600
TZOFFSETTO:-0700
TZNAME:MST
DTSTART:20251102T080000
END:STANDARD
BEGIN:DAYLIGHT
TZOFFSETFROM:-0700
TZOFFSETTO:-0600
TZNAME:MDT
DTSTART:20260308T090000
END:DAYLIGHT
BEGIN:STANDARD
TZOFFSETFROM:-0600
TZOFFSETTO:-0700
TZNAME:MST
DTSTART:20261101T080000
END:STANDARD
BEGIN:DAYLIGHT
TZOFFSETFROM:-0700
TZOFFSETTO:-0600
TZNAME:MDT
DTSTART:20270314T090000
END:DAYLIGHT
BEGIN:STANDARD
TZOFFSETFROM:-0600
TZOFFSETTO:-0700
TZNAME:MST
DTSTART:20271107T080000
END:STANDARD
END:VTIMEZONE
BEGIN:VEVENT
DTSTART;VALUE=DATE:20261103
DTEND;VALUE=DATE:20261104
DTSTAMP:20260420T115345
CREATED:20260415T181938Z
LAST-MODIFIED:20260416T000741Z
UID:2180-1793664000-1793750399@qualimet.ca
SUMMARY:ABSA Welder Test
DESCRIPTION:Contact@qualimet.ca\n(780)469-9652
URL:https://qualimet.ca/hours-and-testing/absa-test-106/
CATEGORIES:ABSA Welder Testing
ORGANIZER;CN="Qualimet":MAILTO:contact@qualimet.ca
END:VEVENT
BEGIN:VEVENT
DTSTART;VALUE=DATE:20261105
DTEND;VALUE=DATE:20261106
DTSTAMP:20260420T115345
CREATED:20260415T181946Z
LAST-MODIFIED:20260416T000755Z
UID:2181-1793836800-1793923199@qualimet.ca
SUMMARY:ABSA Welder Test
DESCRIPTION:Contact@qualimet.ca\n(780)469-9652
URL:https://qualimet.ca/hours-and-testing/absa-test-107/
CATEGORIES:ABSA Welder Testing
ORGANIZER;CN="Qualimet":MAILTO:contact@qualimet.ca
END:VEVENT
BEGIN:VEVENT
DTSTART;VALUE=DATE:20261106
DTEND;VALUE=DATE:20261107
DTSTAMP:20260420T115345
CREATED:20260415T181947Z
LAST-MODIFIED:20260416T000809Z
UID:2182-1793923200-1794009599@qualimet.ca
SUMMARY:ABSA Welder Test
DESCRIPTION:Contact@qualimet.ca\n(780)469-9652
URL:https://qualimet.ca/hours-and-testing/absa-test-108/
CATEGORIES:ABSA Welder Testing
ORGANIZER;CN="Qualimet":MAILTO:contact@qualimet.ca
END:VEVENT
BEGIN:VEVENT
DTSTART;VALUE=DATE:20261110
DTEND;VALUE=DATE:20261111
DTSTAMP:20260420T115345
CREATED:20260415T181947Z
LAST-MODIFIED:20260416T000822Z
UID:2183-1794268800-1794355199@qualimet.ca
SUMMARY:ABSA Welder Test
DESCRIPTION:Contact@qualimet.ca\n(780)469-9652
URL:https://qualimet.ca/hours-and-testing/absa-test-109/
CATEGORIES:ABSA Welder Testing
ORGANIZER;CN="Qualimet":MAILTO:contact@qualimet.ca
END:VEVENT
BEGIN:VEVENT
DTSTART;VALUE=DATE:20261112
DTEND;VALUE=DATE:20261113
DTSTAMP:20260420T115345
CREATED:20260415T181947Z
LAST-MODIFIED:20260416T000838Z
UID:2184-1794441600-1794527999@qualimet.ca
SUMMARY:ABSA Welder Test
DESCRIPTION:Contact@qualimet.ca\n(780)469-9652
URL:https://qualimet.ca/hours-and-testing/absa-test-110/
CATEGORIES:ABSA Welder Testing
ORGANIZER;CN="Qualimet":MAILTO:contact@qualimet.ca
END:VEVENT
BEGIN:VEVENT
DTSTART;VALUE=DATE:20261117
DTEND;VALUE=DATE:20261118
DTSTAMP:20260420T115345
CREATED:20260415T181957Z
LAST-MODIFIED:20260416T001813Z
UID:2186-1794873600-1794959999@qualimet.ca
SUMMARY:ABSA Welder Test
DESCRIPTION:Contact@qualimet.ca\n(780)469-9652
URL:https://qualimet.ca/hours-and-testing/absa-test-111/
CATEGORIES:ABSA Welder Testing
ORGANIZER;CN="Qualimet":MAILTO:contact@qualimet.ca
END:VEVENT
BEGIN:VEVENT
DTSTART;VALUE=DATE:20261119
DTEND;VALUE=DATE:20261120
DTSTAMP:20260420T115345
CREATED:20260415T181958Z
LAST-MODIFIED:20260416T001803Z
UID:2187-1795046400-1795132799@qualimet.ca
SUMMARY:ABSA Welder Test
DESCRIPTION:Contact@qualimet.ca\n(780)469-9652
URL:https://qualimet.ca/hours-and-testing/absa-test-112/
CATEGORIES:ABSA Welder Testing
ORGANIZER;CN="Qualimet":MAILTO:contact@qualimet.ca
END:VEVENT
BEGIN:VEVENT
DTSTART;VALUE=DATE:20261120
DTEND;VALUE=DATE:20261121
DTSTAMP:20260420T115345
CREATED:20260415T181958Z
LAST-MODIFIED:20260416T001752Z
UID:2188-1795132800-1795219199@qualimet.ca
SUMMARY:ABSA Welder Test
DESCRIPTION:Contact@qualimet.ca\n(780)469-9652
URL:https://qualimet.ca/hours-and-testing/absa-test-113/
CATEGORIES:ABSA Welder Testing
ORGANIZER;CN="Qualimet":MAILTO:contact@qualimet.ca
END:VEVENT
BEGIN:VEVENT
DTSTART;VALUE=DATE:20261124
DTEND;VALUE=DATE:20261125
DTSTAMP:20260420T115345
CREATED:20260415T181958Z
LAST-MODIFIED:20260416T001742Z
UID:2189-1795478400-1795564799@qualimet.ca
SUMMARY:ABSA Welder Test
DESCRIPTION:Contact@qualimet.ca\n(780)469-9652
URL:https://qualimet.ca/hours-and-testing/absa-test-114/
CATEGORIES:ABSA Welder Testing
ORGANIZER;CN="Qualimet":MAILTO:contact@qualimet.ca
END:VEVENT
BEGIN:VEVENT
DTSTART;VALUE=DATE:20261126
DTEND;VALUE=DATE:20261127
DTSTAMP:20260420T115345
CREATED:20260415T181959Z
LAST-MODIFIED:20260416T001732Z
UID:2190-1795651200-1795737599@qualimet.ca
SUMMARY:ABSA Welder Test
DESCRIPTION:Contact@qualimet.ca\n(780)469-9652
URL:https://qualimet.ca/hours-and-testing/absa-test-115/
CATEGORIES:ABSA Welder Testing
ORGANIZER;CN="Qualimet":MAILTO:contact@qualimet.ca
END:VEVENT
END:VCALENDAR