BEGIN:VCALENDAR
VERSION:2.0
PRODID:-//Qualimet - ECPv6.15.20//NONSGML v1.0//EN
CALSCALE:GREGORIAN
METHOD:PUBLISH
X-ORIGINAL-URL:https://qualimet.ca
X-WR-CALDESC:Events for Qualimet
REFRESH-INTERVAL;VALUE=DURATION:PT1H
X-Robots-Tag:noindex
X-PUBLISHED-TTL:PT1H
BEGIN:VTIMEZONE
TZID:America/Edmonton
BEGIN:DAYLIGHT
TZOFFSETFROM:-0700
TZOFFSETTO:-0600
TZNAME:MDT
DTSTART:20250309T090000
END:DAYLIGHT
BEGIN:STANDARD
TZOFFSETFROM:-0600
TZOFFSETTO:-0700
TZNAME:MST
DTSTART:20251102T080000
END:STANDARD
BEGIN:DAYLIGHT
TZOFFSETFROM:-0700
TZOFFSETTO:-0600
TZNAME:MDT
DTSTART:20260308T090000
END:DAYLIGHT
BEGIN:STANDARD
TZOFFSETFROM:-0600
TZOFFSETTO:-0700
TZNAME:MST
DTSTART:20261101T080000
END:STANDARD
BEGIN:DAYLIGHT
TZOFFSETFROM:-0700
TZOFFSETTO:-0600
TZNAME:MDT
DTSTART:20270314T090000
END:DAYLIGHT
BEGIN:STANDARD
TZOFFSETFROM:-0600
TZOFFSETTO:-0700
TZNAME:MST
DTSTART:20271107T080000
END:STANDARD
END:VTIMEZONE
BEGIN:VEVENT
DTSTART;VALUE=DATE:20260421
DTEND;VALUE=DATE:20260422
DTSTAMP:20260420T002633
CREATED:20260415T181705Z
LAST-MODIFIED:20260415T204223Z
UID:2100-1776729600-1776815999@qualimet.ca
SUMMARY:ABSA Welder Test
DESCRIPTION:Contact@qualimet.ca\n(780)469-9652
URL:https://qualimet.ca/hours-and-testing/absa-test-39/
CATEGORIES:ABSA Welder Testing
ORGANIZER;CN="Qualimet":MAILTO:contact@qualimet.ca
END:VEVENT
BEGIN:VEVENT
DTSTART;VALUE=DATE:20260423
DTEND;VALUE=DATE:20260424
DTSTAMP:20260420T002633
CREATED:20260415T181712Z
LAST-MODIFIED:20260415T204245Z
UID:2101-1776902400-1776988799@qualimet.ca
SUMMARY:ABSA Welder Test
DESCRIPTION:Contact@qualimet.ca\n(780)469-9652
URL:https://qualimet.ca/hours-and-testing/absa-test-40/
CATEGORIES:ABSA Welder Testing
ORGANIZER;CN="Qualimet":MAILTO:contact@qualimet.ca
END:VEVENT
BEGIN:VEVENT
DTSTART;VALUE=DATE:20260428
DTEND;VALUE=DATE:20260429
DTSTAMP:20260420T002633
CREATED:20260415T181713Z
LAST-MODIFIED:20260415T204319Z
UID:2103-1777334400-1777420799@qualimet.ca
SUMMARY:ABSA Welder Test
DESCRIPTION:Contact@qualimet.ca\n(780)469-9652
URL:https://qualimet.ca/hours-and-testing/absa-test-41/
CATEGORIES:ABSA Welder Testing
ORGANIZER;CN="Qualimet":MAILTO:contact@qualimet.ca
END:VEVENT
BEGIN:VEVENT
DTSTART;VALUE=DATE:20260430
DTEND;VALUE=DATE:20260501
DTSTAMP:20260420T002633
CREATED:20260415T181713Z
LAST-MODIFIED:20260415T204341Z
UID:2104-1777507200-1777593599@qualimet.ca
SUMMARY:ABSA Welder Test
DESCRIPTION:Contact@qualimet.ca\n(780)469-9652
URL:https://qualimet.ca/hours-and-testing/absa-test-42/
CATEGORIES:ABSA Welder Testing
ORGANIZER;CN="Qualimet":MAILTO:contact@qualimet.ca
END:VEVENT
END:VCALENDAR